BEGIN:VCALENDAR
VERSION:2.0
PRODID:-//wp-events-plugin.com//7.1.7//EN
TZID:Europe/Paris
X-WR-TIMEZONE:Europe/Paris
BEGIN:VEVENT
UID:0-1403@ville-cognac.fr
DTSTART;TZID=Europe/Paris;VALUE=DATE:20260511
DTEND;TZID=Europe/Paris;VALUE=DATE:20260523
DTSTAMP:20260417T124822Z
URL:https://www.ville-cognac.fr/evenements/roseoutremer/
SUMMARY:Rose Outremer
DESCRIPTION:Du lundi au vendredi de 8h30 à 12h30 et de 13h30 à 17h30 (17h
  le vendredi).
ATTACH;FMTTYPE=image/jpeg:https://www.ville-cognac.fr/app/uploads/1/2026/0
 2/Vignette-WEB-rose-outremer.jpg
CATEGORIES:Exposition
LOCATION:Hôtel de Ville, 68 boulevard Denfert-Rochereau 16100 Cognac\, Fra
 nce
X-APPLE-STRUCTURED-LOCATION;VALUE=URI;X-ADDRESS=Hôtel de Ville, 68 bouleva
 rd Denfert-Rochereau 16100 Cognac\, France;X-APPLE-RADIUS=100;X-TITLE=:geo
 :0,0
END:VEVENT
BEGIN:VTIMEZONE
TZID:Europe/Paris
X-LIC-LOCATION:Europe/Paris
BEGIN:DAYLIGHT
DTSTART:20260329T030000
TZOFFSETFROM:+0100
TZOFFSETTO:+0200
TZNAME:CEST
END:DAYLIGHT
END:VTIMEZONE
END:VCALENDAR