BEGIN:VCALENDAR
VERSION:2.0
PRODID:-//wp-events-plugin.com//7.1.7//EN
TZID:Europe/Paris
X-WR-TIMEZONE:Europe/Paris
BEGIN:VEVENT
UID:0-1427@ville-cognac.fr
DTSTART;TZID=Europe/Paris;VALUE=DATE:20260511
DTEND;TZID=Europe/Paris;VALUE=DATE:20260518
DTSTAMP:20260224T103117Z
URL:https://www.ville-cognac.fr/evenements/expo-vente-faience-renoleau/
SUMMARY:Expo-vente faïence Renoleau
DESCRIPTION:Du lundi au vendredi de 10h à 12h et de 14h à 17h\, de 10h à
  17h sans interruption le samedi et le dimanche\, entrée libre.
ATTACH;FMTTYPE=image/jpeg:https://www.ville-cognac.fr/app/uploads/2025/01/
 DJI_0554-scaled-e1736237510325.jpg
CATEGORIES:Exposition
LOCATION:Orangerie du Jardin Public 16100 Cognac\, France
X-APPLE-STRUCTURED-LOCATION;VALUE=URI;X-ADDRESS=Orangerie du Jardin Public 
 16100 Cognac\, France;X-APPLE-RADIUS=100;X-TITLE=:geo:0,0
END:VEVENT
BEGIN:VTIMEZONE
TZID:Europe/Paris
X-LIC-LOCATION:Europe/Paris
BEGIN:DAYLIGHT
DTSTART:20260329T030000
TZOFFSETFROM:+0100
TZOFFSETTO:+0200
TZNAME:CEST
END:DAYLIGHT
END:VTIMEZONE
END:VCALENDAR