BEGIN:VCALENDAR
VERSION:2.0
PRODID:-//wp-events-plugin.com//7.1.7//EN
TZID:Europe/Paris
X-WR-TIMEZONE:Europe/Paris
BEGIN:VEVENT
UID:0-1245@ville-cognac.fr
DTSTART;TZID=Europe/Paris:20260511T144500
DTEND;TZID=Europe/Paris:20260511T170000
DTSTAMP:20260128T161243Z
URL:https://www.ville-cognac.fr/evenements/clara-schumann/
SUMMARY:Clara Schumann
DESCRIPTION:Clara Schumann\, par François Hudry\, journaliste\, musicograp
 he\, éditorialiste.
ATTACH;FMTTYPE=image/jpeg:https://www.ville-cognac.fr/app/uploads/2025/10/
 Clara-Schumann.png
CATEGORIES:Conférence,Culture
LOCATION:La Salamandre, 16 rue du 14 Juillet 16100 Cognac\, France
X-APPLE-STRUCTURED-LOCATION;VALUE=URI;X-ADDRESS=La Salamandre, 16 rue du 14
  Juillet 16100 Cognac\, France;X-APPLE-RADIUS=100;X-TITLE=:geo:0,0
END:VEVENT
BEGIN:VTIMEZONE
TZID:Europe/Paris
X-LIC-LOCATION:Europe/Paris
BEGIN:DAYLIGHT
DTSTART:20260329T030000
TZOFFSETFROM:+0100
TZOFFSETTO:+0200
TZNAME:CEST
END:DAYLIGHT
END:VTIMEZONE
END:VCALENDAR