BEGIN:VCALENDAR
VERSION:2.0
PRODID:-//wp-events-plugin.com//7.1.7//EN
TZID:Europe/Paris
X-WR-TIMEZONE:Europe/Paris
BEGIN:VEVENT
UID:0-1486@ville-cognac.fr
DTSTART:20260425T100000Z
DTEND:20260425T150000Z
DTSTAMP:20260422T115730Z
URL:https://www.ville-cognac.fr/evenements/braderie-solidaire/
SUMMARY:Braderie solidaire
DESCRIPTION:Vente de vaisselle\, objets décoratif\, petit électro ménage
 r\, cd\, dvd\, disques\, vêtements et chaussures homme\, femmes\, enfants
 \, jouets\, livres\, etc…
ATTACH;FMTTYPE=image/jpeg:https://www.ville-cognac.fr/app/uploads/1/2026/0
 4/Vignette-WEB-solidarites-2026.jpg
CATEGORIES:Solidarité
LOCATION:55 rue de la Groie 16100 Cognac\, France
X-APPLE-STRUCTURED-LOCATION;VALUE=URI;X-ADDRESS=55 rue de la Groie 16100 Co
 gnac\, France;X-APPLE-RADIUS=100;X-TITLE=:geo:0,0
END:VEVENT
END:VCALENDAR