BEGIN:VCALENDAR
VERSION:2.0
PRODID:-//wp-events-plugin.com//7.1.7//EN
TZID:Europe/Paris
X-WR-TIMEZONE:Europe/Paris
BEGIN:VEVENT
UID:0-1421@ville-cognac.fr
DTSTART;TZID=Europe/Paris:20260425T103000
DTEND;TZID=Europe/Paris:20260425T123000
DTSTAMP:20260219T125822Z
URL:https://www.ville-cognac.fr/evenements/atelier-reparation-velo-3/
SUMMARY:Atelier réparation vélo
DESCRIPTION:Fondation Martell\nSamedi 21 février\nSamedi 21 mars\nSamedi 2
 5 avril\nL'adhésion à l'association coûte 10€ par an\, les ateliers s
 ont gratuits\, seules les pièces de rechange sont à votre charge.\nAdhé
 sion Vélo d'Vie 2026
ATTACH;FMTTYPE=image/jpeg:https://www.ville-cognac.fr/app/uploads/1/2026/0
 2/Vignette-WEB-Atelier-velo-dVie.jpg
CATEGORIES:Info pratique
LOCATION:Fondation Martell 16100 Cognac\, France
X-APPLE-STRUCTURED-LOCATION;VALUE=URI;X-ADDRESS=Fondation Martell 16100 Cog
 nac\, France;X-APPLE-RADIUS=100;X-TITLE=:geo:0,0
END:VEVENT
BEGIN:VTIMEZONE
TZID:Europe/Paris
X-LIC-LOCATION:Europe/Paris
BEGIN:DAYLIGHT
DTSTART:20260329T030000
TZOFFSETFROM:+0100
TZOFFSETTO:+0200
TZNAME:CEST
END:DAYLIGHT
END:VTIMEZONE
END:VCALENDAR